BEGIN:VCALENDAR
METHOD:PUBLISH
VERSION:2.0
CALSCALE:GREGORIAN
PRODID:-//NONSGML WPForms//NONSGML Sugar Calendar Feeds v3.11.0//EN
X-WR-CALNAME:Alta California Regional Center (ACRC) - Local Self-Determi
 nation Advisory Committee
X-WR-CALDESC:completeguidetosdp.org
X-WR-TIMEZONE:UTC
BEGIN:VTIMEZONE
TZID:UTC
BEGIN:STANDARD
TZOFFSETFROM:+0000
TZOFFSETTO:+0000
DTSTART:20250514T060000
TZNAME:UTC
END:STANDARD
END:VTIMEZONE
BEGIN:VTIMEZONE
TZID:UTC
BEGIN:STANDARD
TZOFFSETFROM:+0000
TZOFFSETTO:+0000
DTSTART:20250514T060000
TZNAME:UTC
END:STANDARD
END:VTIMEZONE
BEGIN:VEVENT
SUMMARY:Alta California Regional Center (ACRC) - Local Self-Determinatio
 n Advisory Committee
DESCRIPTION:Meets on the 2nd&nbsp\;Wednesday every other month.Meetings 
 will be held from 1:00pm-3:00pm in January\, March\, July and September.
 Meetings will be held from 6:00pm-8:00pm in May and November.\n\n\n\n\n\
 n\n\n\nCommittee Website Click Here
URL;VALUE=URI:https://completeguidetosdp.org/events/alta-california-regi
 onal-center-local-self-determination-advisory-committee-2-2/
UID:urn:uuid:47e760af-6beb-4a7c-8cc3-f93458c86fb6
STATUS:CONFIRMED
ORGANIZER:
DTSTAMP:20260419T222709Z
DTSTART;TZID=UTC:20251112T180000
DTEND;TZID=UTC:20251112T200000
END:VEVENT
END:VCALENDAR