BEGIN:VCALENDAR
METHOD:PUBLISH
VERSION:2.0
CALSCALE:GREGORIAN
PRODID:-//NONSGML WPForms//NONSGML Sugar Calendar Feeds v3.11.0//EN
X-WR-CALNAME:Alta California Regional Center (ACRC) - Local Self-Determi
 nation Advisory Committee
X-WR-CALDESC:completeguidetosdp.org
X-WR-TIMEZONE:UTC
BEGIN:VTIMEZONE
TZID:UTC
BEGIN:STANDARD
TZOFFSETFROM:+0000
TZOFFSETTO:+0000
DTSTART:20250312T010000
TZNAME:UTC
END:STANDARD
END:VTIMEZONE
BEGIN:VTIMEZONE
TZID:UTC
BEGIN:STANDARD
TZOFFSETFROM:+0000
TZOFFSETTO:+0000
DTSTART:20250312T010000
TZNAME:UTC
END:STANDARD
END:VTIMEZONE
BEGIN:VEVENT
SUMMARY:Alta California Regional Center (ACRC) - Local Self-Determinatio
 n Advisory Committee
DESCRIPTION:Meets on the 2nd Wednesday every other month.Meetings will 
 be held from 1:00pm-3:00pm in January\, March\, July and September.Meeti
 ngs will be held from 6:00pm-8:00pm in May and November.\n\n\n\n\n\n\n\n
 \nCommittee Website Click Here
URL;VALUE=URI:https://completeguidetosdp.org/events/alta-california-regi
 onal-center-local-self-determination-advisory-committee-3/
UID:urn:uuid:bd6e1906-39aa-4d6b-923b-8867d26050ba
STATUS:CONFIRMED
ORGANIZER:
DTSTAMP:20260419T142016Z
DTSTART;TZID=UTC:20250910T130000
DTEND;TZID=UTC:20250910T150000
END:VEVENT
END:VCALENDAR