BEGIN:VCALENDAR
METHOD:PUBLISH
VERSION:2.0
CALSCALE:GREGORIAN
PRODID:-//NONSGML WPForms//NONSGML Sugar Calendar Feeds v3.11.0//EN
X-WR-CALNAME:Disability Voices United (DVU) Empowerment in Practice Conf
 erence
X-WR-CALDESC:completeguidetosdp.org
X-WR-TIMEZONE:UTC
BEGIN:VTIMEZONE
TZID:UTC
BEGIN:STANDARD
TZOFFSETFROM:+0000
TZOFFSETTO:+0000
DTSTART:20250312T203000
TZNAME:UTC
END:STANDARD
END:VTIMEZONE
BEGIN:VTIMEZONE
TZID:UTC
BEGIN:STANDARD
TZOFFSETFROM:+0000
TZOFFSETTO:+0000
DTSTART:20250312T203000
TZNAME:UTC
END:STANDARD
END:VTIMEZONE
BEGIN:VEVENT
SUMMARY:Disability Voices United (DVU) Empowerment in Practice Conferenc
 e
DESCRIPTION:Northern California Conference\n\n\n\nThursday\, September 1
 1\, 20258:30 am – 4:15 pmThe California Endowment Oakland2000 Franklin
  Street
URL;VALUE=URI:https://completeguidetosdp.org/events/disability-voices-un
 ited-dvu-empowerment-in-practice-conference/
UID:urn:uuid:fba16d71-15b2-44b9-b94d-ed8e6781659d
STATUS:CONFIRMED
ORGANIZER:
DTSTAMP:20260420T202606Z
DTSTART;TZID=UTC:20250911T083000
DTEND;TZID=UTC:20250911T161500
END:VEVENT
END:VCALENDAR