BEGIN:VCALENDAR
METHOD:PUBLISH
VERSION:2.0
CALSCALE:GREGORIAN
PRODID:-//NONSGML WPForms//NONSGML Sugar Calendar Feeds v3.11.0//EN
X-WR-CALNAME:Disability Voices United Empowerment in Practice Conference
X-WR-CALDESC:completeguidetosdp.org
X-WR-TIMEZONE:UTC
BEGIN:VTIMEZONE
TZID:UTC
BEGIN:STANDARD
TZOFFSETFROM:+0000
TZOFFSETTO:+0000
DTSTART:20250520T203000
TZNAME:UTC
END:STANDARD
END:VTIMEZONE
BEGIN:VTIMEZONE
TZID:UTC
BEGIN:STANDARD
TZOFFSETFROM:+0000
TZOFFSETTO:+0000
DTSTART:20250520T203000
TZNAME:UTC
END:STANDARD
END:VTIMEZONE
BEGIN:VEVENT
SUMMARY:Disability Voices United Empowerment in Practice Conference
DESCRIPTION:Southern California Conference\n\n\n\nWednesday\, November 1
 9\, 20258:30 am – 4:30 pmThe California Endowment Los Angeles1000 Alam
 eda Street\n\n\n\nREGISTER
URL;VALUE=URI:https://completeguidetosdp.org/events/disability-voices-un
 ited-empowerment-in-practice-conference/
UID:urn:uuid:8c8a3d85-e718-48f3-a7af-c64bd2d94448
STATUS:CONFIRMED
ORGANIZER:
DTSTAMP:20260420T202425Z
DTSTART;TZID=UTC:20251119T083000
DTEND;TZID=UTC:20251119T163000
END:VEVENT
END:VCALENDAR