BEGIN:VCALENDAR
METHOD:PUBLISH
VERSION:2.0
CALSCALE:GREGORIAN
PRODID:-//NONSGML WPForms//NONSGML Sugar Calendar Feeds v3.11.0//EN
X-WR-CALNAME:Disability-Voices-United-Think-Outside-the-Box-Step-by-step
 -training
X-WR-CALDESC:completeguidetosdp.org
X-WR-TIMEZONE:UTC
BEGIN:VTIMEZONE
TZID:UTC
BEGIN:STANDARD
TZOFFSETFROM:+0000
TZOFFSETTO:+0000
DTSTART:20260121T043000
TZNAME:UTC
END:STANDARD
END:VTIMEZONE
BEGIN:VTIMEZONE
TZID:UTC
BEGIN:STANDARD
TZOFFSETFROM:+0000
TZOFFSETTO:+0000
DTSTART:20260121T043000
TZNAME:UTC
END:STANDARD
END:VTIMEZONE
BEGIN:VEVENT
SUMMARY:Disability Voices United - Think Outside the Box Step by step tr
 aining
DESCRIPTION:Think Outside the BoxDescription:&nbsp\;Think Outside the Bo
 x offers step-by-step training to help Self-Determination Program partic
 ipants and their supports transition smoothly. Learn key steps like tran
 sition supports\, budgets\, spending plans\, and choosing the right fina
 ncial management service.&nbsp\;Hosted by&nbsp\;Disability Voices United
 \n\n\n\nInterpretation is available in Spanish and Korean.\n\n\n\nRegist
 er Here:&nbsp\;&nbsp\;Zoom Registration&nbsp\;
URL;VALUE=URI:https://completeguidetosdp.org/sc_recurring_event/disabili
 ty-voices-united-think-outside-the-box-step-by-step-training/
UID:urn:uuid:6733a6ab-d662-449c-8f8c-c158d0e45f08
STATUS:CONFIRMED
ORGANIZER:
DTSTAMP:20260420T161336Z
DTSTART;TZID=UTC:20260722T163000
DTEND;TZID=UTC:20260722T180000
RRULE:FREQ=MONTHLY;INTERVAL=1
END:VEVENT
END:VCALENDAR