BEGIN:VCALENDAR
METHOD:PUBLISH
VERSION:2.0
CALSCALE:GREGORIAN
PRODID:-//NONSGML WPForms//NONSGML Sugar Calendar Feeds v3.11.0//EN
X-WR-CALNAME:East Los Angeles Regional Center (ELARC) - Local Self-Deter
 mination Advisory Committee
X-WR-CALDESC:completeguidetosdp.org
X-WR-TIMEZONE:UTC
BEGIN:VTIMEZONE
TZID:UTC
BEGIN:STANDARD
TZOFFSETFROM:+0000
TZOFFSETTO:+0000
DTSTART:20250318T060000
TZNAME:UTC
END:STANDARD
END:VTIMEZONE
BEGIN:VTIMEZONE
TZID:UTC
BEGIN:STANDARD
TZOFFSETFROM:+0000
TZOFFSETTO:+0000
DTSTART:20250318T060000
TZNAME:UTC
END:STANDARD
END:VTIMEZONE
BEGIN:VEVENT
SUMMARY:East Los Angeles Regional Center (ELARC) - Local Self-Determinat
 ion Advisory Committee
DESCRIPTION:Committee Website Click Here
URL;VALUE=URI:https://completeguidetosdp.org/events/east-los-angeles-reg
 ional-center-local-self-determination-advisory-committee-2/
UID:urn:uuid:3e61c9a1-4ff8-491b-ac2a-402fafa4e925
STATUS:CONFIRMED
ORGANIZER:
DTSTAMP:20260419T142253Z
DTSTART;TZID=UTC:20250916T180000
DTEND;TZID=UTC:20250916T200000
END:VEVENT
END:VCALENDAR