BEGIN:VCALENDAR
METHOD:PUBLISH
VERSION:2.0
CALSCALE:GREGORIAN
PRODID:-//NONSGML WPForms//NONSGML Sugar Calendar Feeds v3.11.0//EN
X-WR-CALNAME:East Los Angeles Regional Center (ELARC) - Local Self Deter
 mination Advisory Committee
X-WR-CALDESC:completeguidetosdp.org
X-WR-TIMEZONE:UTC
BEGIN:VTIMEZONE
TZID:UTC
BEGIN:STANDARD
TZOFFSETFROM:+0000
TZOFFSETTO:+0000
DTSTART:20250520T060000
TZNAME:UTC
END:STANDARD
END:VTIMEZONE
BEGIN:VTIMEZONE
TZID:UTC
BEGIN:STANDARD
TZOFFSETFROM:+0000
TZOFFSETTO:+0000
DTSTART:20250520T060000
TZNAME:UTC
END:STANDARD
END:VTIMEZONE
BEGIN:VEVENT
SUMMARY:East Los Angeles Regional Center (ELARC) - Local Self Determinat
 ion Advisory Committee
DESCRIPTION:Committee Website Click Here
URL;VALUE=URI:https://completeguidetosdp.org/events/east-los-angeles-reg
 ional-center-local-self-determination-advisory-committee/
UID:urn:uuid:60fabedc-07cb-4923-b3e9-056303d7bb62
STATUS:CONFIRMED
ORGANIZER:
DTSTAMP:20260419T142507Z
DTSTART;TZID=UTC:20251118T180000
DTEND;TZID=UTC:20251118T200000
END:VEVENT
END:VCALENDAR