BEGIN:VCALENDAR
METHOD:PUBLISH
VERSION:2.0
CALSCALE:GREGORIAN
PRODID:-//NONSGML WPForms//NONSGML Sugar Calendar Feeds v3.11.0//EN
X-WR-CALNAME:East-Los-Angeles-Regional-Center-Local-Volunteer-Advisory-C
 ommittee-Meeting
X-WR-CALDESC:completeguidetosdp.org
X-WR-TIMEZONE:UTC
BEGIN:VTIMEZONE
TZID:UTC
BEGIN:STANDARD
TZOFFSETFROM:+0000
TZOFFSETTO:+0000
DTSTART:20270817T060000
TZNAME:UTC
END:STANDARD
END:VTIMEZONE
BEGIN:VTIMEZONE
TZID:UTC
BEGIN:STANDARD
TZOFFSETFROM:+0000
TZOFFSETTO:+0000
DTSTART:20270817T060000
TZNAME:UTC
END:STANDARD
END:VTIMEZONE
BEGIN:VEVENT
SUMMARY:East Los Angeles Regional Center - Local Volunteer Advisory Comm
 ittee Meeting
DESCRIPTION:East Los Angeles Regional Center Local Volunteer Advisory Co
 mmittee&nbsp\;\n\n\n\nThe Zoom link can be found on the&nbsp\;ELARC webs
 ite calendar.\n\n\n\nMore information about the ELARC Local Volunteer Ad
 visory Committee Meeting: https://www.elarc.org/People-We-Serve/Self-Det
 ermination/Self-Determination-Local-Volunteer-Advisory-Committee
URL;VALUE=URI:https://completeguidetosdp.org/sc_recurring_event/east-los
 -angeles-regional-center-local-volunteer-advisory-committee-meeting/
UID:urn:uuid:c98d5d68-a36b-4071-b0fe-e2f03cdf2d36
STATUS:CONFIRMED
ORGANIZER:
DTSTAMP:20260420T213637Z
DTSTART;TZID=UTC:20280215T180000
DTEND;TZID=UTC:20280215T200000
RRULE:FREQ=MONTHLY;INTERVAL=2
END:VEVENT
END:VCALENDAR