BEGIN:VCALENDAR
METHOD:PUBLISH
VERSION:2.0
CALSCALE:GREGORIAN
PRODID:-//NONSGML WPForms//NONSGML Sugar Calendar Feeds v3.11.0//EN
X-WR-CALNAME:Frank D. Lanterman Regional Center - Local Self-Determinati
 on Advisory Committee
X-WR-CALDESC:completeguidetosdp.org
X-WR-TIMEZONE:UTC
BEGIN:VTIMEZONE
TZID:UTC
BEGIN:STANDARD
TZOFFSETFROM:+0000
TZOFFSETTO:+0000
DTSTART:20250109T043000
TZNAME:UTC
END:STANDARD
END:VTIMEZONE
BEGIN:VTIMEZONE
TZID:UTC
BEGIN:STANDARD
TZOFFSETFROM:+0000
TZOFFSETTO:+0000
DTSTART:20250109T043000
TZNAME:UTC
END:STANDARD
END:VTIMEZONE
BEGIN:VEVENT
SUMMARY:Frank D. Lanterman Regional Center - Local Self-Determination Ad
 visory Committee
DESCRIPTION:Meets on the 1st Thursday of each month from 4:30pm-6:00pm.
 \n\n\n\n\n\n\n\n\nCommittee Website Click Here
URL;VALUE=URI:https://completeguidetosdp.org/events/frank-d-lanterman-re
 gional-center-local-self-determination-advisory-committee/
UID:urn:uuid:b8ee3e1e-4258-4a53-b23f-adb47d4d7237
STATUS:CONFIRMED
ORGANIZER:
DTSTAMP:20260419T141743Z
DTSTART;TZID=UTC:20250710T163000
DTEND;TZID=UTC:20250710T180000
END:VEVENT
END:VCALENDAR