BEGIN:VCALENDAR
METHOD:PUBLISH
VERSION:2.0
CALSCALE:GREGORIAN
PRODID:-//NONSGML WPForms//NONSGML Sugar Calendar Feeds v3.11.0//EN
X-WR-CALNAME:Golden-Gate-Regional-Center-GGRC-Local-Self-Determination-A
 dvisory-Committee
X-WR-CALDESC:completeguidetosdp.org
X-WR-TIMEZONE:UTC
BEGIN:VTIMEZONE
TZID:UTC
BEGIN:STANDARD
TZOFFSETFROM:+0000
TZOFFSETTO:+0000
DTSTART:20260527T120000
TZNAME:UTC
END:STANDARD
END:VTIMEZONE
BEGIN:VTIMEZONE
TZID:UTC
BEGIN:STANDARD
TZOFFSETFROM:+0000
TZOFFSETTO:+0000
DTSTART:20260527T120000
TZNAME:UTC
END:STANDARD
END:VTIMEZONE
BEGIN:VEVENT
SUMMARY:Golden Gate Regional Center (GGRC) - Local Self-Determination Ad
 visory Committee
DESCRIPTION:Meets on the 4th&nbsp\;Thursday of each month (check website
  for time).\n\n\n\n\n\n\n\n\n\n\n\n\nCommittee Website Click Here
URL;VALUE=URI:https://completeguidetosdp.org/sc_recurring_event/golden-g
 ate-regional-center-ggrc-local-self-determination-advisory-committee-3/
UID:urn:uuid:a07279ad-a59e-4750-a467-0af5b7747ea4
STATUS:CONFIRMED
ORGANIZER:
DTSTAMP:20260420T165332Z
DTSTART;VALUE=DATE:20261126
RRULE:FREQ=MONTHLY;INTERVAL=1
END:VEVENT
END:VCALENDAR