BEGIN:VCALENDAR
METHOD:PUBLISH
VERSION:2.0
CALSCALE:GREGORIAN
PRODID:-//NONSGML WPForms//NONSGML Sugar Calendar Feeds v3.11.0//EN
X-WR-CALNAME:Golden Gate Regional Center - Local Self-Determination Advi
 sory Committee
X-WR-CALDESC:completeguidetosdp.org
X-WR-TIMEZONE:UTC
BEGIN:VTIMEZONE
TZID:UTC
BEGIN:STANDARD
TZOFFSETFROM:+0000
TZOFFSETTO:+0000
DTSTART:20241226T040000
TZNAME:UTC
END:STANDARD
END:VTIMEZONE
BEGIN:VTIMEZONE
TZID:UTC
BEGIN:STANDARD
TZOFFSETFROM:+0000
TZOFFSETTO:+0000
DTSTART:20241226T040000
TZNAME:UTC
END:STANDARD
END:VTIMEZONE
BEGIN:VEVENT
SUMMARY:Golden Gate Regional Center - Local Self-Determination Advisory 
 Committee
DESCRIPTION:Meets on the 4th Thursday of each month (check website for 
 time)\n\n\n\nJune SDLAC Meeting&nbsp\;\n\n\n\nDear Community Partners\,\
 n\n\n\nThe next meeting of the SDLAC is&nbsp\;Thursday\, June 26&nbsp\;a
 t 4:00 pm.\n\n\n\nDraft Agenda/Meeting Notice\n\n\n\nPlease click here t
 o join us on Zoom\n\n\n\n&nbsp\; ~ Jennifer Walsh and Ken Parekh\, SDLAC
  Co-Chairs&nbsp\;\n\n\n\n\nCommittee Website Click Here
URL;VALUE=URI:https://completeguidetosdp.org/events/golden-gate-regional
 -center-local-self-determination-advisory-committee/
UID:urn:uuid:be2f2735-d8fa-4911-9120-e4d22f6fcd4f
STATUS:CONFIRMED
ORGANIZER:
DTSTAMP:20260419T061439Z
DTSTART;TZID=UTC:20250626T160000
DTEND;TZID=UTC:20250626T180000
END:VEVENT
END:VCALENDAR