BEGIN:VCALENDAR
METHOD:PUBLISH
VERSION:2.0
CALSCALE:GREGORIAN
PRODID:-//NONSGML WPForms//NONSGML Sugar Calendar Feeds v3.11.0//EN
X-WR-CALNAME:Inland-Regional-Center-Independent-Facilitator-Meeting-Prof
 essional-IFs-only
X-WR-CALDESC:completeguidetosdp.org
X-WR-TIMEZONE:UTC
BEGIN:VTIMEZONE
TZID:UTC
BEGIN:STANDARD
TZOFFSETFROM:+0000
TZOFFSETTO:+0000
DTSTART:20270126T210000
TZNAME:UTC
END:STANDARD
END:VTIMEZONE
BEGIN:VTIMEZONE
TZID:UTC
BEGIN:STANDARD
TZOFFSETFROM:+0000
TZOFFSETTO:+0000
DTSTART:20270126T210000
TZNAME:UTC
END:STANDARD
END:VTIMEZONE
BEGIN:VEVENT
SUMMARY:Inland Regional Center Independent Facilitator Meeting (Professi
 onal IFs only)
DESCRIPTION:Inland Regional Center Independent Facilitator (IF) MeetingT
 his meeting is for active professional IF's only.The Zoom link changes m
 onthly. Please contact SHerron@inlandrc.org to be added to a mailing 
 list that shares the link monthly.
URL;VALUE=URI:https://completeguidetosdp.org/sc_recurring_event/inland-r
 egional-center-independent-facilitator-meeting-professional-ifs-only/
UID:urn:uuid:3dc3b18b-f178-4f44-abba-68fc0edf5ff3
STATUS:CONFIRMED
ORGANIZER:
DTSTAMP:20260420T211434Z
DTSTART;TZID=UTC:20270728T090000
DTEND;TZID=UTC:20270728T100000
RRULE:FREQ=MONTHLY;INTERVAL=1
END:VEVENT
END:VCALENDAR