BEGIN:VCALENDAR
METHOD:PUBLISH
VERSION:2.0
CALSCALE:GREGORIAN
PRODID:-//NONSGML WPForms//NONSGML Sugar Calendar Feeds v3.11.0//EN
X-WR-CALNAME:Inland-Regional-Center-IRC-Local-Self-Determination-Advisor
 y-Committee
X-WR-CALDESC:completeguidetosdp.org
X-WR-TIMEZONE:UTC
BEGIN:VTIMEZONE
TZID:UTC
BEGIN:STANDARD
TZOFFSETFROM:+0000
TZOFFSETTO:+0000
DTSTART:20260827T050000
TZNAME:UTC
END:STANDARD
END:VTIMEZONE
BEGIN:VTIMEZONE
TZID:UTC
BEGIN:STANDARD
TZOFFSETFROM:+0000
TZOFFSETTO:+0000
DTSTART:20260827T050000
TZNAME:UTC
END:STANDARD
END:VTIMEZONE
BEGIN:VEVENT
SUMMARY:Inland Regional Center (IRC) - Local Self-Determination Advisory
  Committee
DESCRIPTION:Meets on the 4th&nbsp\;Thursday of each month from 5:00pm-6:
 30pm.\n\n\n\n\n\n\n\n\nCommittee Website Click Here
URL;VALUE=URI:https://completeguidetosdp.org/sc_recurring_event/inland-r
 egional-center-irc-local-self-determination-advisory-committee-2/
UID:urn:uuid:75a5c1a9-6ac0-4630-8fab-dcb567efe16b
STATUS:CONFIRMED
ORGANIZER:
DTSTAMP:20260420T164231Z
DTSTART;TZID=UTC:20270225T170000
DTEND;TZID=UTC:20270225T183000
RRULE:FREQ=MONTHLY;INTERVAL=1
END:VEVENT
END:VCALENDAR