BEGIN:VCALENDAR
METHOD:PUBLISH
VERSION:2.0
CALSCALE:GREGORIAN
PRODID:-//NONSGML WPForms//NONSGML Sugar Calendar Feeds v3.11.0//EN
X-WR-CALNAME:JLA Trust Adult Disability Resource Fair
X-WR-CALDESC:completeguidetosdp.org
X-WR-TIMEZONE:UTC
BEGIN:VTIMEZONE
TZID:UTC
BEGIN:STANDARD
TZOFFSETFROM:+0000
TZOFFSETTO:+0000
DTSTART:20250315T220000
TZNAME:UTC
END:STANDARD
END:VTIMEZONE
BEGIN:VTIMEZONE
TZID:UTC
BEGIN:STANDARD
TZOFFSETFROM:+0000
TZOFFSETTO:+0000
DTSTART:20250315T220000
TZNAME:UTC
END:STANDARD
END:VTIMEZONE
BEGIN:VEVENT
SUMMARY:JLA Trust Adult Disability Resource Fair
DESCRIPTION:This event is at Leo Baeck Temple\, at 1300 N Sepulveda Blvd
 .&nbsp\; There are two large lots\, so parking will be free and easy for
  everyone.&nbsp\; It is a 3 minute walk from the Sepulveda / Getty Cente
 r bus station\, which is accessed by bus 761.Our resource fair is in an 
 indoors\, air conditioned space.&nbsp\; During the event\, the main spac
 e may be a bit loud\, so we do have a quiet room available for anyone wi
 th sensory issues who needs some space.\n\n\n\nThe venue is accessible\,
  and a relatively short walk (or roll) from the parking lot.&nbsp\; Our 
 signs will point you in the right direction.\n\n\n\nYou'll need to check
  in with&nbsp\;Leo Baeck's&nbsp\;security team by the parking lot.&nbsp\
 ;&nbsp\;Because of this\, if you have registered&nbsp\;friends or family
  who will be arriving separately from you\, they should register separat
 ely for this event.&nbsp\; You can send them to the registration link&nb
 sp\;here.&nbsp\; We welcome anyone you think would benefit from this eve
 nt!We're thrilled to be joined by 38 amazing organizations\, all of whom
  offer wonderful and diverse services for teens and adults with disabili
 ties.&nbsp\;
URL;VALUE=URI:https://completeguidetosdp.org/events/jla-trust-adult-disa
 bility-resource-fair/
UID:urn:uuid:6ca745db-d668-4753-886b-f2ec0d12fe3f
STATUS:CONFIRMED
ORGANIZER:
DTSTAMP:20260420T120201Z
DTSTART;TZID=UTC:20250914T100000
DTEND;TZID=UTC:20250914T123000
END:VEVENT
END:VCALENDAR