BEGIN:VCALENDAR
METHOD:PUBLISH
VERSION:2.0
CALSCALE:GREGORIAN
PRODID:-//NONSGML WPForms//NONSGML Sugar Calendar Feeds v3.11.0//EN
X-WR-CALNAME:NLACRC-SDP-Support-Group
X-WR-CALDESC:completeguidetosdp.org
X-WR-TIMEZONE:UTC
BEGIN:VTIMEZONE
TZID:UTC
BEGIN:STANDARD
TZOFFSETFROM:+0000
TZOFFSETTO:+0000
DTSTART:20250709T043000
TZNAME:UTC
END:STANDARD
END:VTIMEZONE
BEGIN:VTIMEZONE
TZID:UTC
BEGIN:STANDARD
TZOFFSETFROM:+0000
TZOFFSETTO:+0000
DTSTART:20250709T043000
TZNAME:UTC
END:STANDARD
END:VTIMEZONE
BEGIN:VEVENT
SUMMARY:NLACRC - SDP Support Group
DESCRIPTION:Come and meet other NLACRC SDP participants! Bring your ques
 tions!!!\n\n\n\n1st Wednesday\n\n\n\n4:30-6:00\n\n\n\nZoom\n\n\n\nSpanis
 h Interpretation Available\n\n\n\nJoin Zoom Meeting https://us02web.zoom
 .us/j/84214512801?pwd=jb0eKhjpFhJ14X6qOjcplLWCV9Siaw.1 \n\n\n\nMeeting I
 D: 842 1451 2801 \n\n\n\nPasscode: 031944
URL;VALUE=URI:https://completeguidetosdp.org/sc_recurring_event/nlacrc-s
 dp-support-group/
UID:urn:uuid:54fbe525-5468-4e74-b09f-bdecf75f2647
STATUS:CONFIRMED
ORGANIZER:
DTSTAMP:20260419T131724Z
DTSTART;TZID=UTC:20260107T163000
DTEND;TZID=UTC:20260107T180000
RRULE:FREQ=MONTHLY;INTERVAL=1;UNTIL=20260204T235959Z
END:VEVENT
END:VCALENDAR