BEGIN:VCALENDAR
METHOD:PUBLISH
VERSION:2.0
CALSCALE:GREGORIAN
PRODID:-//NONSGML WPForms//NONSGML Sugar Calendar Feeds v3.11.0//EN
X-WR-CALNAME:Regional Center of Orange County (RCOC) LVAC
X-WR-CALDESC:completeguidetosdp.org
X-WR-TIMEZONE:UTC
BEGIN:VTIMEZONE
TZID:UTC
BEGIN:STANDARD
TZOFFSETFROM:+0000
TZOFFSETTO:+0000
DTSTART:20250324T063000
TZNAME:UTC
END:STANDARD
END:VTIMEZONE
BEGIN:VTIMEZONE
TZID:UTC
BEGIN:STANDARD
TZOFFSETFROM:+0000
TZOFFSETTO:+0000
DTSTART:20250324T063000
TZNAME:UTC
END:STANDARD
END:VTIMEZONE
BEGIN:VEVENT
SUMMARY:Regional Center of Orange County (RCOC) LVAC
DESCRIPTION:To register for the meeting via Zoom\,&nbsp\;please click he
 re.\n\n\n\nOnce you register\, you will receive the link to join the mee
 ting via Zoom.\n\n\n\nPlease find attached the meeting agenda.\n\n\n\nFo
 r the updates regarding Self-Determination\, you can visit RCOC’s webs
 ite&nbsp\;here&nbsp\;or the Department of Developmental Services’ webs
 ite&nbsp\;here.
URL;VALUE=URI:https://completeguidetosdp.org/events/regional-center-of-o
 range-county-rcoc-lvac/
UID:urn:uuid:8443805d-ff20-410a-a7f3-8b4539d14615
STATUS:CONFIRMED
ORGANIZER:
DTSTAMP:20260420T075256Z
DTSTART;TZID=UTC:20250922T183000
DTEND;TZID=UTC:20250922T200000
END:VEVENT
END:VCALENDAR