BEGIN:VCALENDAR
METHOD:PUBLISH
VERSION:2.0
CALSCALE:GREGORIAN
PRODID:-//NONSGML WPForms//NONSGML Sugar Calendar Feeds v3.11.0//EN
X-WR-CALNAME:Regional-Center-of-the-East-Bay-RCEB-Local-Self-Determinati
 on-Advisory-Committee
X-WR-CALDESC:completeguidetosdp.org
X-WR-TIMEZONE:UTC
BEGIN:VTIMEZONE
TZID:UTC
BEGIN:STANDARD
TZOFFSETFROM:+0000
TZOFFSETTO:+0000
DTSTART:20250707T070000
TZNAME:UTC
END:STANDARD
END:VTIMEZONE
BEGIN:VTIMEZONE
TZID:UTC
BEGIN:STANDARD
TZOFFSETFROM:+0000
TZOFFSETTO:+0000
DTSTART:20250707T070000
TZNAME:UTC
END:STANDARD
END:VTIMEZONE
BEGIN:VEVENT
SUMMARY:Regional Center of the East Bay (RCEB) - Local Self Determinatio
 n Advisory Committee
DESCRIPTION:Meets on the 1st&nbsp\;Monday of each month from 7:00pm-8:30
 pm.\n\n\n\n\n\n\n\n\nCommittee Website Click Here
URL;VALUE=URI:https://completeguidetosdp.org/sc_recurring_event/regional
 -center-of-the-east-bay-rceb-local-self-determination-advisory-committee
 -2/
UID:urn:uuid:9ff9e2fd-365b-4e8f-a826-67463ffb0bea
STATUS:CONFIRMED
ORGANIZER:
DTSTAMP:20260419T143032Z
DTSTART;TZID=UTC:20260105T190000
DTEND;TZID=UTC:20260105T203000
RRULE:FREQ=MONTHLY;INTERVAL=1;UNTIL=20260202T235959Z
END:VEVENT
END:VCALENDAR