BEGIN:VCALENDAR
METHOD:PUBLISH
VERSION:2.0
CALSCALE:GREGORIAN
PRODID:-//NONSGML WPForms//NONSGML Sugar Calendar Feeds v3.11.0//EN
X-WR-CALNAME:SDI-SDP-Community-Lunch-Series
X-WR-CALDESC:completeguidetosdp.org
X-WR-TIMEZONE:UTC
BEGIN:VTIMEZONE
TZID:UTC
BEGIN:STANDARD
TZOFFSETFROM:+0000
TZOFFSETTO:+0000
DTSTART:20270518T000000
TZNAME:UTC
END:STANDARD
END:VTIMEZONE
BEGIN:VTIMEZONE
TZID:UTC
BEGIN:STANDARD
TZOFFSETFROM:+0000
TZOFFSETTO:+0000
DTSTART:20270518T000000
TZNAME:UTC
END:STANDARD
END:VTIMEZONE
BEGIN:VEVENT
SUMMARY:SDI- SDP Community Lunch Series
DESCRIPTION:Grab your lunch and join Kristianna to make connections and 
 build a strong SDP community!Meet financial management services and prov
 iders at each meeting.\n\n\n\n\n\n\n\n\nRegister Here
URL;VALUE=URI:https://completeguidetosdp.org/sc_recurring_event/sdi-sdp-
 community-lunch-series-3/
UID:urn:uuid:28e81330-4baf-4859-9ce7-aa4f29948fb5
STATUS:CONFIRMED
ORGANIZER:
DTSTAMP:20260420T202849Z
DTSTART;TZID=UTC:20271116T120000
DTEND;TZID=UTC:20271116T130000
RRULE:FREQ=MONTHLY;INTERVAL=1
END:VEVENT
END:VCALENDAR