BEGIN:VCALENDAR
METHOD:PUBLISH
VERSION:2.0
CALSCALE:GREGORIAN
PRODID:-//NONSGML WPForms//NONSGML Sugar Calendar Feeds v3.11.0//EN
X-WR-CALNAME:State Council on Developmental Disabilities - Statewide Sel
 f-Determination Advisory Committee Meeting
X-WR-CALDESC:completeguidetosdp.org
X-WR-TIMEZONE:UTC
BEGIN:VTIMEZONE
TZID:UTC
BEGIN:STANDARD
TZOFFSETFROM:+0000
TZOFFSETTO:+0000
DTSTART:20241223T230000
TZNAME:UTC
END:STANDARD
END:VTIMEZONE
BEGIN:VTIMEZONE
TZID:UTC
BEGIN:STANDARD
TZOFFSETFROM:+0000
TZOFFSETTO:+0000
DTSTART:20241223T230000
TZNAME:UTC
END:STANDARD
END:VTIMEZONE
BEGIN:VEVENT
SUMMARY:State Council on Developmental Disabilities - Statewide Self-Det
 ermination Advisory Committee Meeting
DESCRIPTION:Hotel Burbank150 E. Angeleno Ave.Burbank\, CA 91502\n\n\n\nM
 eeting Link:&nbsp\;SSDAC.July.2025Meeting ID: 868 8922 1864Password: 576
 504\n\n\n\n\n\n\n\n\nSSDAC Website Click Here
URL;VALUE=URI:https://completeguidetosdp.org/events/state-council-on-dev
 elopmental-disabilities-statewide-self-determination-advisory-committee-
 meeting/
UID:urn:uuid:3a8a2640-ec04-470c-ade8-bec41e8732ed
STATUS:CONFIRMED
ORGANIZER:
DTSTAMP:20260420T023729Z
DTSTART;TZID=UTC:20250624T110000
DTEND;TZID=UTC:20250624T160000
END:VEVENT
END:VCALENDAR