BEGIN:VCALENDAR
METHOD:PUBLISH
VERSION:2.0
CALSCALE:GREGORIAN
PRODID:-//NONSGML WPForms//NONSGML Sugar Calendar Feeds v3.11.0//EN
X-WR-CALNAME:Supported Life Institute Conference
X-WR-CALDESC:completeguidetosdp.org
X-WR-TIMEZONE:UTC
BEGIN:VTIMEZONE
TZID:UTC
BEGIN:STANDARD
TZOFFSETFROM:+0000
TZOFFSETTO:+0000
DTSTART:20250409T120000
TZNAME:UTC
END:STANDARD
END:VTIMEZONE
BEGIN:VTIMEZONE
TZID:UTC
BEGIN:STANDARD
TZOFFSETFROM:+0000
TZOFFSETTO:+0000
DTSTART:20250409T120000
TZNAME:UTC
END:STANDARD
END:VTIMEZONE
BEGIN:VEVENT
SUMMARY:Supported Life Institute Conference
DESCRIPTION:39th Annual Supported Life ConferenceSUPPORTED LIFE 2025\n\n
 \n\nNavigating Safe Passage Through Changing Times\n\n\n\nOctober 9-10\,
  2025\n\n\n\nWyndham Sacramento Hotel\n\n\n\nSacramento\, California\n\n
 \n\nConference Brochure / Registration&nbsp\;(PDF)\n\n\n\nConference Bro
 chure / Registration&nbsp\;(text only)\n\n\n\nONLINE REGISTRATION
URL;VALUE=URI:https://completeguidetosdp.org/events/supported-life-insti
 tute-conference/
UID:urn:uuid:91968309-1fd6-4701-bbb2-99ed00646977
STATUS:CONFIRMED
ORGANIZER:
DTSTAMP:20260420T034929Z
DTSTART;VALUE=DATE:20251009
DTEND;VALUE=DATE:20251010
LOCATION:5321 Date Avenue
END:VEVENT
END:VCALENDAR