BEGIN:VCALENDAR
METHOD:PUBLISH
VERSION:2.0
CALSCALE:GREGORIAN
PRODID:-//NONSGML WPForms//NONSGML Sugar Calendar Feeds v3.11.0//EN
X-WR-CALNAME:Tri-Counties-Regional-Center-TCRC-–-Local-Volunteer-Advis
 ory-Committee
X-WR-CALDESC:completeguidetosdp.org
X-WR-TIMEZONE:UTC
BEGIN:VTIMEZONE
TZID:UTC
BEGIN:STANDARD
TZOFFSETFROM:+0000
TZOFFSETTO:+0000
DTSTART:20261224T040000
TZNAME:UTC
END:STANDARD
END:VTIMEZONE
BEGIN:VTIMEZONE
TZID:UTC
BEGIN:STANDARD
TZOFFSETFROM:+0000
TZOFFSETTO:+0000
DTSTART:20261224T040000
TZNAME:UTC
END:STANDARD
END:VTIMEZONE
BEGIN:VEVENT
SUMMARY:Tri-Counties Regional Center (TCRC) – Local Volunteer Advisory
  Committee
DESCRIPTION:Join us in person at&nbsp\;TCRC Santa Barbara:\n\n\n\n\n\n\n
 \n\nRegister Here\n\n\n\n\n\n\n\n\nJoin us via Zoom by clicking here:\n\
 n\n\n\n\n\n\n\nRegister Here\n\n\n\n\n\n\n\n\n\nCommittee Website Click 
 Here\n\n\n\n\n\n\n\n\nCommittee Members:\n\n\n\n\n\n\n\nChristopher Bene
 dict / Co-Chair (Self-Advocate)\n\n\n\nMarcia Eichelberger (Parent)\n\n\
 n\nMelissa Fitch (Parent)\n\n\n\nEllen Hunt / Co-Chair (Parent)\n\n\n\nC
 ynthia Jew (Parent)\n\n\n\nElizabeth Guho Johnson (Parent)\n\n\n\nJennif
 er Luca\n\n\n\nMara Rupert (Self-Advocate)\n\n\n\nSandra Waterbury (Pare
 nt)\n\n\n\nOffice of Clients’ Rights Advocacy
URL;VALUE=URI:https://completeguidetosdp.org/sc_recurring_event/tri-coun
 ties-regional-center-tcrc-local-volunteer-advisory-committee-4/
UID:urn:uuid:fc032531-b88b-40bf-9852-3ea690f15326
STATUS:CONFIRMED
ORGANIZER:
DTSTAMP:20260420T204728Z
DTSTART;TZID=UTC:20270624T160000
DTEND;TZID=UTC:20270624T173000
RRULE:FREQ=MONTHLY;INTERVAL=1
END:VEVENT
END:VCALENDAR